BEGIN:VCALENDAR
VERSION:2.0
PRODID:-//ChurchDev//Events//EN
CALSCALE:GREGORIAN
METHOD:PUBLISH
BEGIN:VEVENT
UID:3598-20260418@www.welakamethodist.com
SUMMARY:Family Jamboree
DTSTART:20260418T133000Z
DTEND:20260418T190000Z
DESCRIPTION:poster\\n\\nhttps://www.welakamethodist.com/events/family-jamboree/
LOCATION:682 3rd Avenue\, Welaka\, FL\, 32193
URL:https://www.welakamethodist.com/events/family-jamboree/
DTSTAMP:20260419T201538Z
END:VEVENT
END:VCALENDAR
