BEGIN:VCALENDAR
VERSION:2.0
PRODID:-//ChurchDev//Events//EN
CALSCALE:GREGORIAN
METHOD:PUBLISH
BEGIN:VEVENT
UID:3279-20240107@www.welakamethodist.com
SUMMARY:Open Communion
DTSTART:20240107T160000Z
DTEND:20240107T170000Z
DESCRIPTION:https://www.welakamethodist.com/events/open-communion/
LOCATION:682 3rd Avenue\, Welaka\, FL\, 32193
URL:https://www.welakamethodist.com/events/open-communion/
DTSTAMP:20260419T201536Z
END:VEVENT
END:VCALENDAR
