BEGIN:VCALENDAR
VERSION:2.0
PRODID:-//ChurchDev//Events//EN
CALSCALE:GREGORIAN
METHOD:PUBLISH
BEGIN:VEVENT
UID:3259-20230104@www.welakamethodist.com
SUMMARY:Bible Study
DTSTART:20230104T161500Z
DTEND:20230104T171500Z
DESCRIPTION:https://www.welakamethodist.com/events/bible-study/
LOCATION:682 3rd Avenue\, Welaka\, FL\, 32193
URL:https://www.welakamethodist.com/events/bible-study/
DTSTAMP:20260419T201538Z
END:VEVENT
END:VCALENDAR
